BEGIN:VCALENDAR
VERSION:2.0
PRODID:-//hacksw/handcal//NONSGML v1.0//EN
BEGIN:VEVENT
DTSTAMP:20260425T220000Z
DTSTART:20260425T220000Z
DTEND:20260426T010000Z

SUMMARY:Maine Mariners - Kelly Cup Playoffs: ROUND ONE, GAME TWO
DESCRIPTION:Congratulations to the Maine Mariners as they compete in the 2026 Kelly Cup Playoffs for the fourth time in the last five years!The Mariners will compete in the Kelly Cup Playoffs with Game 2 of the North Division Semifinals on Saturday, April 25th at the Cross Insurance Arena at 6 PM against the Adirondack Thunder.
END:VEVENT
END:VCALENDAR