BEGIN:VCALENDAR
VERSION:2.0
PRODID:-//hacksw/handcal//NONSGML v1.0//EN
BEGIN:VEVENT
DTSTAMP:20260506T230000Z
DTSTART:20260506T230000Z
DTEND:20260507T020000Z

SUMMARY:Maine Mariners - Kelly Cup Playoffs: ROUND ONE, GAME SEVEN (IF NECESSARY)
DESCRIPTION:Congratulations to the Maine Mariners as they compete in the 2026 Kelly Cup Playoffs for the fourth time in the last five years!Games 7 (if necessary) would be played in Portland on May 6th beginning at 7 PM.
END:VEVENT
END:VCALENDAR