BEGIN:VCALENDAR
VERSION:2.0
PRODID:-//hacksw/handcal//NONSGML v1.0//EN
BEGIN:VEVENT
DTSTAMP:20260313T231500Z
DTSTART:20260313T231500Z
DTEND:20260314T021500Z

SUMMARY:Maine Mariners vs Norfolk Admirals
DESCRIPTION:The Maine Mariners host the Norfolk Admirals on March 13 at 7:15 PM as part of their seventh ECHL season at Cross Insurance Arena.
END:VEVENT
END:VCALENDAR