BEGIN:VCALENDAR
VERSION:2.0
PRODID:-//hacksw/handcal//NONSGML v1.0//EN
BEGIN:VEVENT
DTSTAMP:20260722T193000Z
DTSTART:20260722T193000Z
DTEND:20260722T233000Z

SUMMARY:The Princess Concert
DESCRIPTION:Performing the magical music of Frozen • Wicked • Kpop Demon Hunters • Moana • Taylor Swift • Wizard of Oz • Beauty & the Beast • Aladdin • Anastasia • Pocahontas + MANY MOREWe invite you to an enchanting concert, singing the most magical music in all of the land.Prepare for a show stopping performance as we pay tribute to the iconic, heartwarming and nostalgic songs from animations including; Frozen, Wicked, K-Pop Demon Hunters, Moana, The Wizard of Oz, Beauty & The Beast, Anastasia, Pocahontas, Aladdin, The Little Mermaid, The Lion King, Willy Wonka & the Chocolate Factory and more! As well as a few from our favorite popstars like Taylor Swift, Coldplay and Rachel Platte.With an incredible response and sold-out shows across the country, we know this show will stay in your hearts forever. Creating magical memories, sharing stunning musical moments, and spreading joy is at the very heart of what we do.The stars of our show have performed on the West End, ITV, for Royalty, and more, but their dreams have truly come true touring this concert and performing for you.We’re absolutely enchanted to have you join us.The Enchanted Voices and its events are not affiliated with the films and composers listed. All trademarks are the property of their respective owners.
END:VEVENT
END:VCALENDAR